BEGIN:VCALENDAR
VERSION:2.0
PRODID:-//Talks.cam//talks.cam.ac.uk//
X-WR-CALNAME:Talks.cam
BEGIN:VEVENT
SUMMARY:Predictability of Planet Formation Theories: Resonances and Turbul
 ence - Hanno Rein
DTSTART:20081028T130000Z
DTEND:20081028T140000Z
UID:TALK12764@talks.cam.ac.uk
CONTACT:Dr Lara Silvers
DESCRIPTION:Abstract not available
LOCATION:MR14\, DAMTP\, Pav. F
END:VEVENT
END:VCALENDAR
