BEGIN:VCALENDAR
VERSION:2.0
PRODID:-//Talks.cam//talks.cam.ac.uk//
X-WR-CALNAME:Talks.cam
BEGIN:VEVENT
SUMMARY:The influence of expectation on deciding where to look next - Dr A
 ndrew Anderson:  University of Melbourne
DTSTART:20080715T120000Z
DTEND:20080715T130000Z
UID:TALK12846@talks.cam.ac.uk
CONTACT:John Mollon
DESCRIPTION:Abstract not available
LOCATION:Kenneth Craik Room\, Craik-Marshall Building\, Downing Site
END:VEVENT
END:VCALENDAR
