BEGIN:VCALENDAR
VERSION:2.0
PRODID:-//Talks.cam//talks.cam.ac.uk//
X-WR-CALNAME:Talks.cam
BEGIN:VEVENT
SUMMARY:IL-25 (IL-17E) and IL-17A in the regulation of type-2 immunity and
  asthma - Dr. Andrew McKenzie- MRC Laboratory of Molecular Biology
DTSTART:20081111T130000Z
DTEND:20081111T140000Z
UID:TALK12879@talks.cam.ac.uk
CONTACT:Dr. Walid Khaled
DESCRIPTION:Abstract not available
LOCATION:Lecture Theatre\, Department of Pathology
END:VEVENT
END:VCALENDAR
