BEGIN:VCALENDAR
VERSION:2.0
PRODID:-//Talks.cam//talks.cam.ac.uk//
X-WR-CALNAME:Talks.cam
BEGIN:VEVENT
SUMMARY: Glutamate Receptors then and now - Mayer\, Mark (NIH/NINDS) 
DTSTART:20190906T133000Z
DTEND:20190906T141500Z
UID:TALK128797@talks.cam.ac.uk
CONTACT:50507
DESCRIPTION:I will briefly review key advances that led to the discovery t
 hat glutamate is the major excitatory neurotransmitter receptor in the bra
 in\, presenting this work in the context of what was understood at the tim
 e key discoveries were made. The main focus of the talk will be on the div
 ersity of glutamate receptor function studied using X-ray diffraction and 
 functional studies on diverse species widely separated in evolutionary his
 tory.
LOCATION:Klug Seminar Room\, Level 2 2A180\, MRC LMB
END:VEVENT
END:VCALENDAR
