BEGIN:VCALENDAR
VERSION:2.0
PRODID:-//Talks.cam//talks.cam.ac.uk//
X-WR-CALNAME:Talks.cam
BEGIN:VEVENT
SUMMARY:Periodicities in trees associated with the classification of p-gro
 ups by width\, rank and obliquity - Tobias Rossmann
DTSTART:20080711T161500Z
DTEND:20080711T163000Z
UID:TALK12892@talks.cam.ac.uk
CONTACT:9986
DESCRIPTION:Abstract not available
LOCATION:MR12
END:VEVENT
END:VCALENDAR
