BEGIN:VCALENDAR
VERSION:2.0
PRODID:-//Talks.cam//talks.cam.ac.uk//
X-WR-CALNAME:Talks.cam
BEGIN:VEVENT
SUMMARY:Report from RSSI - David Boland ( Imperial College London)
DTSTART:20080715T140000Z
DTEND:20080715T143000Z
UID:TALK12902@talks.cam.ac.uk
CONTACT:Dr George A Constantinides
DESCRIPTION:David will give us a report-back from his recent attendance at
  the Reconfigurable Systems Summer Institute last week.
LOCATION:Mahanakorn Laboratory\, EEE
END:VEVENT
END:VCALENDAR
