BEGIN:VCALENDAR
VERSION:2.0
PRODID:-//Talks.cam//talks.cam.ac.uk//
X-WR-CALNAME:Talks.cam
BEGIN:VEVENT
SUMMARY:Black Leather Jackets In USA - Speaker to be confirmed
DTSTART:20190822T100000Z
DTEND:20190822T110000Z
UID:TALK129121@talks.cam.ac.uk
CONTACT:Rachel Fredrik
DESCRIPTION:We are famous in the leather industry with our best quality of
  leather and its stuff we are providing service from all over the world wi
 th shipping specially free shipping in the USA\, CANADA\, AUSTRALIA\, and 
 the UK we have our official website from where you are placing your order 
 in a discount price so visit our website which is https://www.getmyleather
 .com
LOCATION:Venue to be confirmed
END:VEVENT
END:VCALENDAR
