BEGIN:VCALENDAR
VERSION:2.0
PRODID:-//Talks.cam//talks.cam.ac.uk//
X-WR-CALNAME:Talks.cam
BEGIN:VEVENT
SUMMARY:Seminar – Overview of Road Safety Globally - Dr Kavi Bhalla\, As
 sistant Professor\, Department of Public Health Sciences of the Biological
  Sciences Division &amp\; Faculty at the Harris School of Public Policy\, 
 University of Chicago.
DTSTART:20190918T113000Z
DTEND:20190918T123000Z
UID:TALK129538@talks.cam.ac.uk
CONTACT:Paul Browne
DESCRIPTION:As the UN Decade of Action for Road Safety (2011-2020) draws t
 o a close\, it is clear that the Sustainable Development Goal of reducing 
 global road traffic deaths by half by 2020 will not be met. In most low- a
 nd middle-income countries (LMICs)\, traffic injuries are rising or stable
  at a high level. In contrast\, traffic deaths in high-income countries (H
 ICs) have been steadily declining for five decades. The talk will present 
 econometric analysis of historic data to argue that the success of HICs re
 sulted from establishing regulatory agencies that conducted large-scale sa
 fety interventions. We will explore the implications for LMICs\, providing
  case studies of the development of similar institutions and their activit
 ies.
LOCATION:Meeting rooms\, Level 4 Institute of Metabolic Sciences\, Addenbr
 ooke’s Treatment Centre (ATC)
END:VEVENT
END:VCALENDAR
