BEGIN:VCALENDAR
VERSION:2.0
PRODID:-//Talks.cam//talks.cam.ac.uk//
X-WR-CALNAME:Talks.cam
BEGIN:VEVENT
SUMMARY:Strongly Coupled Gauge Theories - Professor Richard Kenway (Edinbu
 rgh)
DTSTART:20081107T160000Z
DTEND:20081107T170000Z
UID:TALK12970@talks.cam.ac.uk
CONTACT:Are Raklev
DESCRIPTION:Abstract not available
LOCATION:MR13\, CMS
END:VEVENT
END:VCALENDAR
