BEGIN:VCALENDAR
VERSION:2.0
PRODID:-//Talks.cam//talks.cam.ac.uk//
X-WR-CALNAME:Talks.cam
BEGIN:VEVENT
SUMMARY:A journey into the Perseus Cluster of galaxies - Marie-Lou Gendron
 -Marsolais (ESO Chile)
DTSTART:20191001T130000Z
DTEND:20191001T140000Z
UID:TALK131326@talks.cam.ac.uk
CONTACT:28811
DESCRIPTION:Abstract not available
LOCATION:Sackler Lecture Theatre\, IoA
END:VEVENT
END:VCALENDAR
