BEGIN:VCALENDAR
VERSION:2.0
PRODID:-//Talks.cam//talks.cam.ac.uk//
X-WR-CALNAME:Talks.cam
BEGIN:VEVENT
SUMMARY:Analysing Cortical Organisation and its Relation to Cognition thro
 ugh Machine Learning - Emma Robinson (King's College London)
DTSTART:20191024T083000Z
DTEND:20191024T090500Z
UID:TALK132862@talks.cam.ac.uk
CONTACT:INI IT
DESCRIPTION:
LOCATION:Seminar Room 1\, Newton Institute
END:VEVENT
END:VCALENDAR
