BEGIN:VCALENDAR
VERSION:2.0
PRODID:-//Talks.cam//talks.cam.ac.uk//
X-WR-CALNAME:Talks.cam
BEGIN:VEVENT
SUMMARY:The joys and pains of multi-variable complex analysis: an informal
  introduction - Loredana Lanzani (Syracuse University)
DTSTART:20191003T150000Z
DTEND:20191003T160000Z
UID:TALK132928@talks.cam.ac.uk
CONTACT:INI IT
DESCRIPTION:Given the proven success of the complex analysis toolbox in th
 e modeling and solution of problems in Engineering\; Physics\, etc.\, we a
 sk: what about multi-variable complex analysis?  &nbsp\;  In this talk we 
 provide a broad overview of the basic features of several complex variable
 s with an eye towards building a ``multi-variable complex analysis toolbox
 &rsquo\;&rsquo\;.  <br><br><br><br><br>
LOCATION:Seminar Room 2\, Newton Institute
END:VEVENT
END:VCALENDAR
