BEGIN:VCALENDAR
VERSION:2.0
PRODID:-//Talks.cam//talks.cam.ac.uk//
X-WR-CALNAME:Talks.cam
BEGIN:VEVENT
SUMMARY:Evading problems of IRD in palaeocurrent estimation: Glacial to Re
 cent changes in flows around Greenland - Nick McCave\, University of Cambr
 idge
DTSTART:20191128T173000Z
DTEND:20191128T193000Z
UID:TALK133480@talks.cam.ac.uk
CONTACT:David Hodell
DESCRIPTION:Abstract not available
LOCATION:Clare College (Latimer Room)
END:VEVENT
END:VCALENDAR
