BEGIN:VCALENDAR
VERSION:2.0
PRODID:-//Talks.cam//talks.cam.ac.uk//
X-WR-CALNAME:Talks.cam
BEGIN:VEVENT
SUMMARY:Cisco: How to break the Internet - Simon Chatterjee
DTSTART:20191108T130000Z
DTEND:20191108T143000Z
UID:TALK133648@talks.cam.ac.uk
CONTACT:Christine Georgiou
DESCRIPTION:The Internet itself is under constant attack from hating hacke
 rs\, authoritarian agencies\, boring bugs and annoying accidents. Core rou
 ters stand alone in the hurricane\, far beyond the capacity of any protect
 ive firewall\, left to defend themselves. How can they do this? And how sa
 fe is the Internet really? This talk will reveal all.\n\nThe presenter is 
 a Distinguished Engineer on Cisco’s Ensoft team\, and helped to create t
 he Guinness Book of Records’ “World’s Highest Capacity Internet Rout
 er”
LOCATION:FW11\, Computer Laboratory
END:VEVENT
END:VCALENDAR
