BEGIN:VCALENDAR
VERSION:2.0
PRODID:-//Talks.cam//talks.cam.ac.uk//
X-WR-CALNAME:Talks.cam
BEGIN:VEVENT
SUMMARY:Title to be confirmed - Toby Wood
DTSTART:20081118T130000Z
DTEND:20081118T140000Z
UID:TALK13393@talks.cam.ac.uk
CONTACT:Dr Geoffroy Lesur
DESCRIPTION:Abstract not available
LOCATION:MR14\, DAMTP\, Pav. F
END:VEVENT
END:VCALENDAR
