BEGIN:VCALENDAR
VERSION:2.0
PRODID:-//Talks.cam//talks.cam.ac.uk//
X-WR-CALNAME:Talks.cam
BEGIN:VEVENT
SUMMARY:The Five Seasons:  The Gardens of Piet Oudolf - Speaker to be conf
 irmed
DTSTART:20191114T163000Z
DTEND:20191114T183000Z
UID:TALK134053@talks.cam.ac.uk
CONTACT:Louise Ovens
DESCRIPTION:Landscape designer Piet Oudolf describes his creative process\
 , from his abstract sketches to his theories on beauty.\n\nTea and coffee 
 available from 16.30 with the screening of the film starting at 16.45 and 
 lasting for 75 minutes.  \n\nThis event is free but bookings limited to 10
 0.  Pre-book your ticket via Eventbrite.\n\nhttps://www.eventbrite.co.uk/e
 /the-five-seasons-the-gardens-of-piet-oudolf-tickets-76263296573
LOCATION:Buckingham House Lecture Theatre\, Murray Edwards College\, Hunti
 ngdon Road\, Cambridge CB3 0DF
END:VEVENT
END:VCALENDAR
