BEGIN:VCALENDAR
VERSION:2.0
PRODID:-//Talks.cam//talks.cam.ac.uk//
X-WR-CALNAME:Talks.cam
BEGIN:VEVENT
SUMMARY:Base loci of big and nef line bundles on irreducible symplectic va
 rieties - Ulrike Rieß\, ETH Zürich
DTSTART:20200205T141500Z
DTEND:20200205T151500Z
UID:TALK134182@talks.cam.ac.uk
CONTACT:Dhruv Ranganathan
DESCRIPTION:In the first part of this talk\, I give a complete description
  of the divisorial part of the base locus of big and nef line bundles on i
 rreducible symplectic varieties (under certain conditions). This is a gene
 ralization of well-known results of Mayer and Saint-Donat for K3 surfaces.
  In the second part\, I will present what is currently known on the non-di
 visorial part\, including the results of an ongoing cooperation with Danie
 le Agostini. 
LOCATION:CMS MR13
END:VEVENT
END:VCALENDAR
