BEGIN:VCALENDAR
VERSION:2.0
PRODID:-//Talks.cam//talks.cam.ac.uk//
X-WR-CALNAME:Talks.cam
BEGIN:VEVENT
SUMMARY:Beyond the Bullwhip and the Beer Game - David Sharpe
DTSTART:20081202T120000Z
DTEND:20081202T140000Z
UID:TALK13435@talks.cam.ac.uk
CONTACT:Peter Wild
DESCRIPTION:Supply chain theory is well developed for product based supply
  chains. Despite the credit crunch\, service industries are an increasingl
 y important sector of the economy\, yet there is no theory that explains h
 ow service supply chains perform. This seminar presents a tool that has be
 en developed to explore the dynamics of service supply chain performance\,
  and through a business game help organisations understand the service and
  cost implications of different management strategies.
LOCATION:Wordsworth Room\, St John’s College
END:VEVENT
END:VCALENDAR
