BEGIN:VCALENDAR
VERSION:2.0
PRODID:-//Talks.cam//talks.cam.ac.uk//
X-WR-CALNAME:Talks.cam
BEGIN:VEVENT
SUMMARY:&quot\;The Use of Viruses to Modulate Cardiovascular Disease&quot\
 ; - Prof. Andy Baker:  University of Glasgow
DTSTART:20080911T120000Z
DTEND:20080911T130000Z
UID:TALK13460@talks.cam.ac.uk
DESCRIPTION:Abstract not available
LOCATION:Seminar Room 5\, Clinical School\, Cambridge
END:VEVENT
END:VCALENDAR
