BEGIN:VCALENDAR
VERSION:2.0
PRODID:-//Talks.cam//talks.cam.ac.uk//
X-WR-CALNAME:Talks.cam
BEGIN:VEVENT
SUMMARY:First-principles Investigation of Solid Electrolytes for All-Solid
 -State Batteries (ASSBs) - Bora Karasulu\, TCM
DTSTART:20191120T113000Z
DTEND:20191120T123000Z
UID:TALK134836@talks.cam.ac.uk
CONTACT:Angela Harper
DESCRIPTION:Abstract not available
LOCATION:TCM Seminar Room\, Cavendish Laboratory
END:VEVENT
END:VCALENDAR
