BEGIN:VCALENDAR
VERSION:2.0
PRODID:-//Talks.cam//talks.cam.ac.uk//
X-WR-CALNAME:Talks.cam
BEGIN:VEVENT
SUMMARY:Integrative NMR\, Molecular Modeling\, and Functional studies of i
 mmune recognition complexes - Dr Nikolaos Sgourakis\, University of Califo
 rnia\, Santa Cruz
DTSTART:20191211T123000Z
DTEND:20191211T133000Z
UID:TALK135253@talks.cam.ac.uk
CONTACT:Emma Copley
DESCRIPTION:Abstract not available
LOCATION:Lecture Theatre\, Department of Pathology\, Tennis Court Road
END:VEVENT
END:VCALENDAR
