BEGIN:VCALENDAR
VERSION:2.0
PRODID:-//Talks.cam//talks.cam.ac.uk//
X-WR-CALNAME:Talks.cam
BEGIN:VEVENT
SUMMARY:Speech\, language and the brain - William Marslen-Wilson\, MRC Cog
 nition and Brain Sciences Unit
DTSTART:20081201T161500Z
DTEND:20081201T174500Z
UID:TALK13555@talks.cam.ac.uk
CONTACT:Mandy Carter
DESCRIPTION:Abstract not available
LOCATION:Lecture Theatre\, Medical Research Council (MRC) Cognition and Br
 ain Sciences
END:VEVENT
END:VCALENDAR
