BEGIN:VCALENDAR
VERSION:2.0
PRODID:-//Talks.cam//talks.cam.ac.uk//
X-WR-CALNAME:Talks.cam
BEGIN:VEVENT
SUMMARY:Controlling Optical Properties Of Van der Waals Heterostructures -
  Eugene Alexeev\, University of Cambridge
DTSTART:20191206T160000Z
DTEND:20191206T170000Z
UID:TALK135862@talks.cam.ac.uk
CONTACT:Yarjan Abdul Samad
DESCRIPTION:Abstract not available
LOCATION:Cambridge Graphene Centre\, 9 JJ Thomson Avenue\, Cambridge CB3 O
 FA\, UK
END:VEVENT
END:VCALENDAR
