BEGIN:VCALENDAR
VERSION:2.0
PRODID:-//Talks.cam//talks.cam.ac.uk//
X-WR-CALNAME:Talks.cam
BEGIN:VEVENT
SUMMARY:CANCELLED Principles for a Better World: &quot\;Pure and goodly de
 eds: How worship and service go hand-in-hand&quot\; - Speaker to be confir
 med
DTSTART:20200325T200000Z
DTEND:20200325T213000Z
UID:TALK136093@talks.cam.ac.uk
CONTACT:88843
DESCRIPTION:The Cambridge Bahá'í community has organised a series of tal
 ks and discussions on several core principles and teachings of the Bahá'
 í Faith\, entitled "Principles for a Better World".\n\nTalks will take pl
 ace on Wednesdays from 8-9:30pm from mid-January to mid-April. All talks a
 re free and open to all\, and light refreshments will be served.\n\nThe ti
 tle of this talk is * "Pure and goodly deeds: How worship and service go h
 and-in-hand" *.\n\n_Please note the date of this talk has changed to 25th 
 March!_\n\nShould we spend our time praying or performing acts of service 
 to help others who are less fortunate? It turns out we can do both. Accord
 ing to the teachings of the Bahá'í Faith\, work itself is considered to 
 be worship when it is done in the spirit of helping others. _ "Work done i
 n the spirit of service is the highest form of worship." _ In this talk\, 
 we will explore how this principle can be applied to our daily lives for t
 he betterment of the world.\n\n_ "The well-being of mankind\, its peace an
 d security\, are unattainable unless and until its unity is firmly establi
 shed." _
LOCATION:CANCELLED
END:VEVENT
END:VCALENDAR
