BEGIN:VCALENDAR
VERSION:2.0
PRODID:-//Talks.cam//talks.cam.ac.uk//
X-WR-CALNAME:Talks.cam
BEGIN:VEVENT
SUMMARY:Epitope target discovery: what can we see when we think outside th
 e box. - Dr Michele Mishto\, Kings College London
DTSTART:20200115T123000Z
DTEND:20200115T133000Z
UID:TALK136363@talks.cam.ac.uk
CONTACT:Emma Copley
DESCRIPTION:Abstract not available
LOCATION:Lecture Theatre\, Department of Pathology\, Tennis Court Road
END:VEVENT
END:VCALENDAR
