BEGIN:VCALENDAR
VERSION:2.0
PRODID:-//Talks.cam//talks.cam.ac.uk//
X-WR-CALNAME:Talks.cam
BEGIN:VEVENT
SUMMARY:Cell-biology of antigen cross-presentation - Christian Kurts\, Fri
 edrich-Wilhelms-Universität\, Bonn\, Germany
DTSTART:20080919T120000Z
DTEND:20080919T130000Z
UID:TALK13640@talks.cam.ac.uk
CONTACT:Denise Schofield
DESCRIPTION:Abstract not available
LOCATION:Sackler Lecture Theatre (Level 7)\, Cambridge Institute for Medic
 al Research
END:VEVENT
END:VCALENDAR
