BEGIN:VCALENDAR
VERSION:2.0
PRODID:-//Talks.cam//talks.cam.ac.uk//
X-WR-CALNAME:Talks.cam
BEGIN:VEVENT
SUMMARY:The genetic basis of ankylosing spondylitis - Matt Brown\, Univers
 ity of Queensland\, Brisbane
DTSTART:20081010T120000Z
DTEND:20081010T130000Z
UID:TALK13645@talks.cam.ac.uk
CONTACT:Denise Schofield
DESCRIPTION:Abstract not available
LOCATION:Sackler Lecture Theatre (Level 7)\, Cambridge Institute for Medic
 al Research
END:VEVENT
END:VCALENDAR
