BEGIN:VCALENDAR
VERSION:2.0
PRODID:-//Talks.cam//talks.cam.ac.uk//
X-WR-CALNAME:Talks.cam
BEGIN:VEVENT
SUMMARY:Galactic winds: a statistical perspective.  - Alice Concas
DTSTART:20200212T131500Z
DTEND:20200212T134500Z
UID:TALK136984@talks.cam.ac.uk
CONTACT:Catrina Diener
DESCRIPTION:Abstract not available
LOCATION:Sackler Lecture Theatre\, IoA
END:VEVENT
END:VCALENDAR
