BEGIN:VCALENDAR
VERSION:2.0
PRODID:-//Talks.cam//talks.cam.ac.uk//
X-WR-CALNAME:Talks.cam
BEGIN:VEVENT
SUMMARY:Generations of entanglement between superconducting qubits using s
 idebands in Circuit QED - Dr Peter Leek\, Laboratory for Solid State Physi
 cs\, ETH Zurich\, Switzerland
DTSTART:20081027T141500Z
DTEND:20081027T151500Z
UID:TALK13716@talks.cam.ac.uk
CONTACT:7197
DESCRIPTION:Abstract not available
LOCATION:Mott Seminar Room
END:VEVENT
END:VCALENDAR
