BEGIN:VCALENDAR
VERSION:2.0
PRODID:-//Talks.cam//talks.cam.ac.uk//
X-WR-CALNAME:Talks.cam
BEGIN:VEVENT
SUMMARY:Nanotechonolgy\, Biology\, and Sustainability: Intersections with 
 Gold Nanocrystals - Prof. Catherine Jones Murphy (University of Illinois a
 t Urbana-Champaign)
DTSTART:20200116T113000Z
DTEND:20200116T123000Z
UID:TALK137221@talks.cam.ac.uk
CONTACT:Catherine Pearson
DESCRIPTION:The field of nanotechnology has produced many materials under 
 intense investigation in research labs worldwide.  Many of these materials
  have moved into commercial production.  For nanomedicine applications\, i
 t is of course imperative to understand the nanomaterial/biology interface
  at many length and time scales.  The “green revolution” in chemistry 
 has also sparked work to make the syntheses and end-use of nanomaterials a
 s sustainable and as environmentally friendly as possible.  In this talk I
  will discuss case studies from my laboratory that use gold nanocrystals 
 – possibly the most inert nanomaterial there is – to understand the me
 chanisms of nanomaterial interactions with proteins\, living cells\, commu
 nities of living cells\, and entire ecosystems. \n
LOCATION:Open Plan Area\, BP Institute\, Madingley Rise CB3 0EZ
END:VEVENT
END:VCALENDAR
