BEGIN:VCALENDAR
VERSION:2.0
PRODID:-//Talks.cam//talks.cam.ac.uk//
X-WR-CALNAME:Talks.cam
BEGIN:VEVENT
SUMMARY:Can I be your disruption-tolerant friend? - Tristan Henderson (Uni
 versity of St. Andrews)
DTSTART:20081016T150000Z
DTEND:20081016T160000Z
UID:TALK13767@talks.cam.ac.uk
CONTACT:Eiko Yoneki
DESCRIPTION:Disruption-tolerant\, delay-tolerant\, or pocket-switched netw
 orking architectures are popular ways of exploiting human connectivity to 
 build new mobile ad hoc networks and applications.\nMuch work has involved
  looking at ways of detecting community structure in human social networks
  to better route information through these DTNs. An alternative method mig
 ht be to exploit the known existing community structure\; i.e.\, a user's 
 self-reported social network. This talk will present some experimental res
 ults which indicate that self-reported social networks can be used for DTN
  routing\, and go on to discuss our new work looking at the privacy issues
  in these social/DTN applications and networks.\n\nBio: Tristan Henderson 
 is a Lecturer in Computer Science at the University of St Andrews. His res
 earch interests centre around understanding how people use networked syste
 ms\; so far this has involved network measurement\, networked games\, mobi
 le computing\, wireless security and privacy.  He has an MA from Cambridge
 \, an MSc and PhD from UCL and can be found on the WWW at http://www.cs.st
 -andrews.ac.uk/~tristan/ or at the wireless data archive http://www.crawda
 d.org/\n
LOCATION:FW26\, Computer Laboratory\, William Gates Builiding
END:VEVENT
END:VCALENDAR
