BEGIN:VCALENDAR
VERSION:2.0
PRODID:-//Talks.cam//talks.cam.ac.uk//
X-WR-CALNAME:Talks.cam
BEGIN:VEVENT
SUMMARY:CSAR online webinar.  Sportable: the story behind the world's firs
 t smart rugby ball - Dr. Pete Husemeyer\, Sportable
DTSTART:20200601T183000Z
DTEND:20200601T200000Z
UID:TALK137938@talks.cam.ac.uk
CONTACT:John Cook
DESCRIPTION:*Live ball data to provide match stats\, fan insights and time
 -saving officiating.*\n\nAll CSAR members are welcome.\n"Add to calendar":
 https://www.addevent.com/event/?Ar4087686\n\n"Find out more about this eve
 nt":https://www.csar.org.uk/lectures/lectures-2019-2020/tbc-01jun2020/\n\n
 "Find out more about CSAR membership":http://www.csar.org.uk/membership/\n
 \n
LOCATION:Location: Your choice! See email reminders or &quot\;Attending Le
 ctures&quot\; for details of how to join in.
END:VEVENT
END:VCALENDAR
