BEGIN:VCALENDAR
VERSION:2.0
PRODID:-//Talks.cam//talks.cam.ac.uk//
X-WR-CALNAME:Talks.cam
BEGIN:VEVENT
SUMMARY:Hafnium Disulfide Is The New Silicon - Prof. Saverio Russo\, Unive
 rsity of Exeter\, UK
DTSTART:20200117T160000Z
DTEND:20200117T170000Z
UID:TALK138025@talks.cam.ac.uk
CONTACT:Yarjan Abdul Samad
DESCRIPTION:Abstract not available
LOCATION:Cambridge Graphene Centre\, 9 JJ Thomson Avenue\, Cambridge CB3 O
 FA\, UK
END:VEVENT
END:VCALENDAR
