BEGIN:VCALENDAR
VERSION:2.0
PRODID:-//Talks.cam//talks.cam.ac.uk//
X-WR-CALNAME:Talks.cam
BEGIN:VEVENT
SUMMARY:Impacts of surface-derived meltwater on ice motion in Greenland an
 d the Antarctic Peninsula - Andrew Sole\, Department of Geography\, Univer
 sity of Sheffield
DTSTART:20200210T130000Z
DTEND:20200210T140000Z
UID:TALK138154@talks.cam.ac.uk
CONTACT:Prof. Jerome Neufeld
DESCRIPTION:Abstract not available
LOCATION:MR5\, Centre for Mathematical Sciences
END:VEVENT
END:VCALENDAR
