BEGIN:VCALENDAR
VERSION:2.0
PRODID:-//Talks.cam//talks.cam.ac.uk//
X-WR-CALNAME:Talks.cam
BEGIN:VEVENT
SUMMARY:New Developments In Welding Powersource Technology - Keith Palmer\
 , TPS-Fronius Ltd
DTSTART:20080929T180000Z
DTEND:20080929T200000Z
UID:TALK13831@talks.cam.ac.uk
CONTACT:Dr Tom Howes
DESCRIPTION:*WJS Eastern Counties Branch*\n\nFrom the first primary transi
 stor-switched inverters\, technology has now brought complete digital\, mi
 croprocessor control allowing previously impossible joint configurations t
 o be welded\, and reliably in production. Such machines bring flexibility\
 , productivity and traceability with full communication over Ethernet. Spe
 cial QA software enables a virtual control centre to overview all machines
  in a company over its network. Designed for use with MIG/MAG welding and 
 brazing\, TIG welding and the Fronius Deltaspot resistance welding head th
 e software allows complete traceability in both manual and automated weldi
 ng processes leading to reductions in downtime and defects and increases p
 roduction. Keith will discuss the issues involved and demonstrate sample e
 quipment.\n
LOCATION:Meeting Room G3\, Bevan Braithwaithe Building\, TWI Ltd\, Granta 
 Park\, Great Abington\, Cambridge CB21 6AL
END:VEVENT
END:VCALENDAR
