BEGIN:VCALENDAR
VERSION:2.0
PRODID:-//Talks.cam//talks.cam.ac.uk//
X-WR-CALNAME:Talks.cam
BEGIN:VEVENT
SUMMARY:Defining “at risk states”: molecular pathways and clinical phe
 notypes associated with rheumatoid arthritis. - Andrew Cope\, King’s Col
 lege London. Hosted by Ken Smith.
DTSTART:20200131T150000Z
DTEND:20200131T160000Z
UID:TALK138805@talks.cam.ac.uk
CONTACT:Dr. Maryam Arasteh
DESCRIPTION:Abstract not available
LOCATION:Jeffrey Cheah Biomedical Centre\, Cambridge Biomedical Campus
END:VEVENT
END:VCALENDAR
