BEGIN:VCALENDAR
VERSION:2.0
PRODID:-//Talks.cam//talks.cam.ac.uk//
X-WR-CALNAME:Talks.cam
BEGIN:VEVENT
SUMMARY:Several approaches to Kazhdan-Lusztig theory - Amy Zhu\, Universit
 y of Cambridge
DTSTART:20200306T150000Z
DTEND:20200306T160000Z
UID:TALK139699@talks.cam.ac.uk
CONTACT:Liam Jolliffe
DESCRIPTION:As a counterpart to Robert Spencer's talk on the (new) algebra
 ic proof of the Kazhdan-Lusztig conjecture\, I will present the (old) geom
 etric approaches due to Kazhdan-Lusztig\, Beilinson-Bernstein-Brylinski-Ka
 shiwara\, MacPherson-Springer and Haines. 
LOCATION:CMS\, MR13
END:VEVENT
END:VCALENDAR
