BEGIN:VCALENDAR
VERSION:2.0
PRODID:-//Talks.cam//talks.cam.ac.uk//
X-WR-CALNAME:Talks.cam
BEGIN:VEVENT
SUMMARY:Towards easier protocols for quantum position-verification - Andre
 as Bluhm (University of Copenhagen)
DTSTART:20200213T144500Z
DTEND:20200213T151500Z
UID:TALK139732@talks.cam.ac.uk
CONTACT:Adrian Kent
DESCRIPTION:In this talk\, we will discuss ongoing work on easier protocol
 s for\nquantum position-verification which are secure against adversaries 
 with\na linear amount of entanglement. We will review the qubit routing\np
 rotocol by Buhrman et al. and discuss approaches to strengthen their\nsecu
 rity guarantees for this protocol.
LOCATION:MR2\, Centre for Mathematical Sciences\, Wilberforce Road\, Cambr
 idge
END:VEVENT
END:VCALENDAR
