BEGIN:VCALENDAR
VERSION:2.0
PRODID:-//Talks.cam//talks.cam.ac.uk//
X-WR-CALNAME:Talks.cam
BEGIN:VEVENT
SUMMARY:Parents in Court: the role of family advocacy - Mavis Maclean\, Un
 iversity of Oxford
DTSTART:20081111T130000Z
DTEND:20081111T140000Z
UID:TALK13983@talks.cam.ac.uk
CONTACT:8810
DESCRIPTION:Abstract not available
LOCATION:Room 606\, Centre for Family Research
END:VEVENT
END:VCALENDAR
