BEGIN:VCALENDAR
VERSION:2.0
PRODID:-//Talks.cam//talks.cam.ac.uk//
X-WR-CALNAME:Talks.cam
BEGIN:VEVENT
SUMMARY:Creativity in Business: is it a game changer? - Dr Alex Carter\, I
 nstitute of Continuing Education
DTSTART:20200224T083000Z
DTEND:20200224T110000Z
UID:TALK139834@talks.cam.ac.uk
CONTACT:54101
DESCRIPTION:Cambridge Network is pleased to be collaborating with the Inst
 itute of Continuing Education to bring you this event with Dr Alex Carter 
 of the University of Cambridge\, where he will explore the ways in which c
 reativity can be fostered in your organisation\, and the ways in which it 
 cannot.\n\nIncreasingly\, business leaders are hearing and saying a lot ab
 out creativity. These discussions are driven\, at least in part\, by the p
 erceived threat of automation and a corresponding motivation to develop so
 ft skills\, such as collaboration\, communication and creativity. Creativi
 ty is not just a way to ‘future-proof’ your career\; it also promises 
 organisations the means to gain from disorder (anti-fragility). In these u
 ncertain times\, creativity is in very high demand.\nJoin us and ICE for a
  Business Breakfast at Madingley Hall in Cambridge (free parking)\, with D
 r Alex Carter of the University of Cambridge Institute of Continuing Educa
 tion\, where he will explore some of the ways in which creativity can be f
 ostered in your organisation and some of the ways in which it cannot.\n\nT
 he talk will cover:\n- Various underlying theories of creativity and the i
 mplications of each exposed.\n- What is ‘permission to fail’ and how c
 an it be fostered within an organisation? Would it help to avoid mentionin
 g “failure” altogether - or would “failure” still loom over us?\n-
  How can we foster co-creation within an organisation? To what extent is c
 ollaboration a silent practice (rather than a vocal one)?\n \nAgenda:\n08.
 30am - Registration and networking over coffee and breakfast\n09.00am - Sp
 eaker - Dr Alex Carter\, University of Cambridge Institute of Continuing E
 ducation\n10.30am - Further networking and a chance to follow up with the 
 speaker\n11.00am - Event close\n\nFor full details and to register please 
 see the link below. Please note that any member of the University may atte
 nd at members' discounted rates. \n\nhttps://www.cambridgenetwork.co.uk/ev
 ents/creativity-business-it-game-changer
LOCATION:Institute of Continuing Education\, Madingley Hall
END:VEVENT
END:VCALENDAR
