BEGIN:VCALENDAR
VERSION:2.0
PRODID:-//Talks.cam//talks.cam.ac.uk//
X-WR-CALNAME:Talks.cam
BEGIN:VEVENT
SUMMARY:Unrecorded history: what genomes tell us about ancestry and admixt
 ure - Aylwyn Scally (University of Cambridge)
DTSTART:20200219T163000Z
DTEND:20200219T173000Z
UID:TALK139900@talks.cam.ac.uk
CONTACT:Keaghan Yaxley
DESCRIPTION:Abstract not available
LOCATION:Seminar Room\, Henry Wellcome Building\, Division of Biological A
 nthropology\, Fitzwilliam Street\, Cambridge\, CB2 3QG
END:VEVENT
END:VCALENDAR
