BEGIN:VCALENDAR
VERSION:2.0
PRODID:-//Talks.cam//talks.cam.ac.uk//
X-WR-CALNAME:Talks.cam
BEGIN:VEVENT
SUMMARY:What is smart thing like number doing in the dumb parietal cortex?
  - Prof. Vincent Walsh:  University College London
DTSTART:20081114T163000Z
DTEND:20081114T173000Z
UID:TALK14029@talks.cam.ac.uk
DESCRIPTION:Abstract not available
LOCATION:Ground Floor Lecture Theatre\, Department of Experimental Psychol
 ogy
END:VEVENT
END:VCALENDAR
