BEGIN:VCALENDAR
VERSION:2.0
PRODID:-//Talks.cam//talks.cam.ac.uk//
X-WR-CALNAME:Talks.cam
BEGIN:VEVENT
SUMMARY:&quot\;Leukocyte recruitment to the advanced plaque&quot\; - Prof.
  Erik Biessen: Leiden University
DTSTART:20081016T120000Z
DTEND:20081016T130000Z
UID:TALK14065@talks.cam.ac.uk
DESCRIPTION:Abstract not available
LOCATION:Seminar Room 5\, Clinical School\, Cambridge
END:VEVENT
END:VCALENDAR
