BEGIN:VCALENDAR
VERSION:2.0
PRODID:-//Talks.cam//talks.cam.ac.uk//
X-WR-CALNAME:Talks.cam
BEGIN:VEVENT
SUMMARY:Tissue resident CD4 T cells: division of labor in the lung. - Caro
 lyn King\, University of Basel. Hosted by Michelle Linterman.
DTSTART:20200529T120000Z
DTEND:20200529T130000Z
UID:TALK140968@talks.cam.ac.uk
CONTACT:Dr. Maryam Arasteh
DESCRIPTION:Abstract not available
LOCATION:LMB\, Max Perutz Lecture Theatre  
END:VEVENT
END:VCALENDAR
