BEGIN:VCALENDAR
VERSION:2.0
PRODID:-//Talks.cam//talks.cam.ac.uk//
X-WR-CALNAME:Talks.cam
BEGIN:VEVENT
SUMMARY:Into thin air: the impact of hypoxia on immunity and inflammation.
  - Cormac Taylor\, University College Dublin. Hosted by James Nathan.
DTSTART:20200626T120000Z
DTEND:20200626T130000Z
UID:TALK140977@talks.cam.ac.uk
CONTACT:Dr. Maryam Arasteh
DESCRIPTION:Abstract not available
LOCATION:LMB\, Max Perutz Lecture Theatre  
END:VEVENT
END:VCALENDAR
