BEGIN:VCALENDAR
VERSION:2.0
PRODID:-//Talks.cam//talks.cam.ac.uk//
X-WR-CALNAME:Talks.cam
BEGIN:VEVENT
SUMMARY:Title to be confirmed - Prof. John Danesh: Institute of Public Hea
 lth\, Cambridge University
DTSTART:20081203T160000Z
DTEND:20081203T170000Z
UID:TALK14107@talks.cam.ac.uk
DESCRIPTION:Abstract not available
LOCATION:MRC Human Nutrition Research\, The Elsie Widdowson Laboratory\, F
 ulbourn Road\, Cambridge
END:VEVENT
END:VCALENDAR
