BEGIN:VCALENDAR
VERSION:2.0
PRODID:-//Talks.cam//talks.cam.ac.uk//
X-WR-CALNAME:Talks.cam
BEGIN:VEVENT
SUMMARY:Conversational AI for Enterprises - Speaker to be confirmed
DTSTART:20200312T110000Z
DTEND:20200312T120000Z
UID:TALK141139@talks.cam.ac.uk
CONTACT:Nuacem AI
DESCRIPTION:*Nuacem is an AI-powered Omnichannel Customer Engagement Platf
 orm that offers the full features and capabilities required to build sophi
 sticated Customer Engagement\, Experience\, and Support solutions built fo
 r Enterprises. Ask any doubts if you have on *"Conversational AI Platform"
 :https://nuacem.com
LOCATION:Venue to be confirmed
END:VEVENT
END:VCALENDAR
