BEGIN:VCALENDAR
VERSION:2.0
PRODID:-//Talks.cam//talks.cam.ac.uk//
X-WR-CALNAME:Talks.cam
BEGIN:VEVENT
SUMMARY:Externat: what it is and how it is great! - Speaker to be confirme
 d
DTSTART:20200318T110000Z
DTEND:20200318T120000Z
UID:TALK141286@talks.cam.ac.uk
CONTACT:Alex
DESCRIPTION:Externship is a type of training when a student is registered 
 at school\, but studies at home. At the same time\, she passes all the ann
 ual tests at school (one test per year for each subject)\, studies from sc
 hool textbooks and comes to consult with teachers at school.\n\nAlso\, the
  student passes the GNA and EIT with their classmates.\nThe distinctive fe
 ature of the externat is that it is not legally available to everyone.\n\n
 According to The regulations on external education in General education in
 stitutions only students can apply for it:\n\nStudents with special needs\
 ;\nChildren-athletes or those who are engaged in art\;\nStudents who are a
 head of the school curriculum\;\nChildren who frequently move due to their
  parents ' business trips or live abroad or "pay someone for essay":https:
 //mywriting.work/essay/pay/.\n\nStudents who have not completed General se
 condary education or are graduates of previous years and do not have the r
 esults of an annual assessment in certain academic subjects and /or have n
 ot passed the certification.\n\nExternship is a great option for many fami
 lies: a child can study at home and not depend on school. Please note that
  the external control over the success of the student falls entirely on th
 e shoulders of parents. Admittedly\, many in this situation may have probl
 ems.\nSelf-study\n\nTraining at externship Djibouti-what sort of training 
 has advantages and disadvantages. The main feature of the external course 
 is independent learning.\n\nThe child comes to school only for small consu
 ltations with the teacher (about 15 minutes according to the schedule appr
 oved by the head of the educational institution\, in total no more than th
 ree hours during the school year)\, these are not lessons or tutoring sess
 ions. At the same time\, the student passes all the material independently
  or with their parents\, and then at the end of the year passes the tests.
 \n\nIn other words\, education is entirely on the shoulders of the student
  and without the control of parents\, you can not do it.\n\n*Externship in
  an online school*\n\n\nLet's be honest\, not all parents will be able to 
 control their child's education. Adults already have a lot to do\, and the
 n there are math assignments\, poetry in literature\, and so on.\n\nIn thi
 s case\, remote schools or Tutors are connected to the child's education. 
 A big advantage of online schools is that they help in all subjects at onc
 e\, and not as Tutors\, only with individual ones.\n\nWith a remote school
 \, it is easier for a child to learn on their own\, because it has additio
 nal materials\, recordings of online lessons and\, most importantly\, a ch
 at with the teacher.\nThis way the training will be easier and without the
  constant presence of parents.\n\n*How do I switch to an externat?*\n\n\nI
 t is not so difficult to switch to an externat. The school needs to take a
  statement about the desire to transfer the child to an external course an
 d provide the necessary documents.\n\n\nThen it is up to the parents\, or 
 they are engaged with the child or entrust it to online schools.\nIn concl
 usion\n\n\nboy distance learning externship has its advantages and disadva
 ntages. For various reasons\, it is not suitable for everyone\, but it is 
 worth trying if the child can not attend school. But do not forget that th
 ere are other forms of distance learning that are more suitable for a chil
 d.\nJust add that Online School 977 is engaged in teaching students on the
  external and other forms of education. We help children learn independent
 ly or in online classes with their peers\, monitor their progress and are 
 always ready to improve their knowledge individually with the teacher.
LOCATION:Venue to be confirmed
END:VEVENT
END:VCALENDAR
