BEGIN:VCALENDAR
VERSION:2.0
PRODID:-//Talks.cam//talks.cam.ac.uk//
X-WR-CALNAME:Talks.cam
BEGIN:VEVENT
SUMMARY:Environmentally Progressive Aircraft Design - tbc - Dave Paisley\,
  Boeing
DTSTART:20081120T141500Z
DTEND:20081120T160000Z
UID:TALK14158@talks.cam.ac.uk
CONTACT:8442
DESCRIPTION:Abstract not available
LOCATION:Lecture Room 6\, Engineering Department
END:VEVENT
END:VCALENDAR
