BEGIN:VCALENDAR
VERSION:2.0
PRODID:-//Talks.cam//talks.cam.ac.uk//
X-WR-CALNAME:Talks.cam
BEGIN:VEVENT
SUMMARY:Modelling the vertebrate melanocyte - how exactly do neural crest 
 cells go black? - Robert Kelsh - Dept of Biology and Biochemistry Universi
 ty of Bath
DTSTART:20081024T121500Z
DTEND:20081024T125500Z
UID:TALK14183@talks.cam.ac.uk
CONTACT:David Rivers
DESCRIPTION:
LOCATION:Biffen Lecture Theatre\, Genetics\, Department of
END:VEVENT
END:VCALENDAR
